BEGIN:VCALENDAR
VERSION:2.0
PRODID:https://github.com/derhansen/sf_event_mgt
METHOD:PUBLISH
BEGIN:VEVENT
UID:2823-141@isb.rlp.de
CLASS: PUBLIC
SUMMARY:Förderung von Wohnraum in Rheinland-Pfalz – Aktuelle Programme
DESCRIPTION:In dem Webinar werden die Grundlagen, Ziele und Inhalte der ein
 zelnen Förderprogramme ausführlich dargestellt. Dies gilt besonders für die
  Neuregelungen, die zu einer quantitativen und qualitativen Verbesserung im
  Bereich des Wohneigentums und der Mietwohnungen in Rheinland-Pfalz führen 
 soll.\n\nMit dem Mietwohnungsbauprogramm wird die Errichtung von bezahlbare
 n Mietwohnungen unterstützt. Aufgrund der Grundförderbeträge und der Nullpr
 ozentphase bis zu 10 Jahren ist der Darlehenszins besonders niedrig. Tilgun
 gszuschüsse können gewährt werden. Die Darlehenssicherung kann nachrangig e
 rfolgen.\n\nMit dem Modernisierungsprogramm werden die baulichen Maßnahmen 
 in selbstgenutztem oder vermietetem Wohnraum unterstützt. Die Maßnahmen müs
 sen der energetischen Ertüchtigung, der Barrierefreiheit, der Gebrauchswert
 - oder Wohnwertsteigerung dienen. Aufgrund der Zinsverbilligungen ist der D
 arlehenszins attraktiv. Ein Tilgungszuschuss kann gewährt werden. Der Einsa
 tz von Eigenkapital ist nicht erforderlich. \n\nMit dem Eigentumsprogramm w
 erden die Errichtung oder der Erwerb von selbstgenutztem Wohnraum unterstüt
 zt. Aufgrund der Zinsverbilligungen ist der Darlehenszins günstig und die Z
 insfestschreibung bis zur vollständigen Rückzahlung möglich. Ein Tilgungszu
 schuss kann gewährt werden. (Anmeldeschluss: 12.04.2021, 15:00 Uhr)\n\nAnme
 lden können Sie sich hier...
DTSTAMP:20210304T112010Z
DTSTART:20210413T073000Z
DTEND:20210413T140000Z
END:VEVENT
END:VCALENDAR
