BEGIN:VCALENDAR
VERSION:2.0
PRODID:https://github.com/derhansen/sf_event_mgt
METHOD:PUBLISH
BEGIN:VEVENT
UID:1467-141@isb.rlp.de
CLASS: PUBLIC
SUMMARY:Fachseminar Südtirol - Digitalisierung in Handwerk und Industrie
DESCRIPTION: Das Ministerium für Wirtschaft, Verkehr, Landwirtschaft und We
 inbau lädt Sie im Rahmen des Außenwirtschaftsprogramms „Gemeinsam auf Ausla
 ndsmärkte 2018“ - gemeinsam mit den Handwerkskammern und Industrie- und Han
 delskammern des Landes - zu einem Fachseminar in Bozen/Südtirol zum Thema „
 Digitalisierung in Handwerk und Industrie“ vom 28. bis 30. Mai 2018 ein. Da
 s Fachseminar wird über Marktchancen informieren, den Erfahrungsaustausch f
 ördern und Kooperationen in dem für alle Wirtschaftszweige wichtigen Zukunf
 tsfeld der Digitalisierung ermöglichen. Südtirol hat sich in diesem Bereich
  große Ziele gesetzt: Das Programm „Südtirol Digital 2020“ sieht wichtige D
 igitalisierungsmaßnahmen in den Bereichen Infrastruktur, Verwaltung, Wirtsc
 haft, Bildung und IT-Governance vor. Ende 2017 gab es in Südtirol bereits 1
 10 betriebsbereite Glasfaserknotenpunkte. Die nördlichste Provinz Italiens 
 steht damit nicht nur im italienischen, sondern auch im europäischen Vergle
 ich sehr gut da. Projektbesichtigungen, ein Workshop und eine bilaterale Ko
 operationsbörse - organisiert durch die Deutsch-Italienische Handelskammer 
 (AHK) - stehen im Mittelpunkt des Fachseminars. Sie werden jedem teilnehmen
 den Unternehmen die Chancen und Herausforderungen der Digitalisierung aufze
 igen und adäquate italienische Gesprächspartner zur Anbahnung neuer Geschäf
 tskontakte zuführen. Nähere Informationen zum Reiseablauf und zu den Teilna
 hmebedingungen finden Sie unter www.rlp-international.de bzw. im beiliegend
 en Flyer.\n\n\n\n
DTSTAMP:20180320T071129Z
DTSTART:20180527T220000Z
DTEND:20180529T220000Z
END:VEVENT
END:VCALENDAR
