BEGIN:VCALENDAR
VERSION:2.0
PRODID:https://github.com/derhansen/sf_event_mgt
METHOD:PUBLISH
BEGIN:VEVENT
UID:3259-141@isb.rlp.de
CLASS: PUBLIC
SUMMARY:Fachkongress für die Öffentliche Hand 2024
DESCRIPTION:Zum nunmehr zweiten Mal laden die Landesförderinstitute die Öff
 entliche Hand gemeinsam zu einem Fachkongress ein. Unter dem Motto „Wir för
 dern nachhaltig und regional – Infrastruktur für Stadt und Land“ möchten wi
 r gern mit Ihnen ins Gespräch kommen, und zwar am 4. und 5. November 2024 i
 m Steigerwaldstadion Erfurt.\n\nEingeleitet wird der Fachkongress mit einer
  exklusiven Vorabendveranstaltung am 4. November. Zusammen mit prominenten 
 Gästen aus Politik und Wirtschaft möchten wir mit Ihnen diskutieren. Am Kon
 gresstag erwarten Sie fachliche Impulse und praxisorientierte Beiträge zur 
 Gestaltung einer nachhaltigen Infrastruktur und den Fördermöglichkeiten.\n\
 nWir freuen uns auf Ihre Teilnahme und rege Diskussionen!\n\nFür Vertreteri
 nnen und Vertreter der Öffentlichen Hand ist die Teilnahme kostenfrei. Zur 
 Anmeldung und weiteren Informationen der Veranstaltung (Programmablauf, Ref
 erenten) gelangen Sie über den Anmeldebutton.\n\nDie Teilnehmerzahl ist beg
 renzt. Deshalb sichern Sie sich am besten gleich Ihre Plätze! Die Anmeldung
  ist möglich bis zum 28.10.2024.
LOCATION:Steigerwaldstadion Erfurt
DTSTAMP:20240916T145222Z
DTSTART:20241104T143000Z
DTEND:20241105T151500Z
END:VEVENT
END:VCALENDAR
