BEGIN:VCALENDAR
VERSION:2.0
PRODID:https://github.com/derhansen/sf_event_mgt
METHOD:PUBLISH
BEGIN:VEVENT
UID:2505-141@isb.rlp.de
CLASS: PUBLIC
SUMMARY:Eröffnung Zukunftskongress Gesundheit digital
DESCRIPTION:Die ZIRP plant wieder ein großes Ereignis! Mit dem zweitägigen 
 Zukunftskongress rlp_vernetzt: Gesundheit di?ital am 3. und 4. September 20
 19 im Kurfürstlichen Schloss in Koblenz soll gezeigt werden, wie die digita
 le Transformation das Gesundheitswesen verändert und welche Chancen und Opt
 ionen sie bringt. Denn: Rheinland-Pfalz ist ein Standort der digitalen Gesu
 ndheit!\n\nDie Eröffnungsdiskussion am Dienstag, den 3. September 2019 um 1
 0:00 Uhr bietet eine thematische Einstimmung auf zwei spannende und abwechs
 lungsreiche Kongresstage: auf die Bedeutung digitaler Lösungen für eine pat
 ientenorientierte Gesundheitsversorgung; auf das wirtschaftliche Potenzial 
 digitaler Lösungen in der Gesundheitswirtschaft für den Standort Rheinland-
 Pfalz und die Region Koblenz; auf das bessere Zusammenwirken der Akteure du
 rch intelligente Datenanalyse und Datennutzung.   Eröffnet wird die Veranst
 altung von Michael Heinz, Mitglied des Vorstands der BASF SE und Vorsitzend
 er der ZIRP.\n\nWeitere Informationen und Programm unter www.zirp.de Anmeld
 en können Sie sich hier.\n\n\n\n
LOCATION:Kurfürstliches Schloss Koblenz
DTSTAMP:20190801T074423Z
DTSTART:20190903T080000Z
END:VEVENT
END:VCALENDAR
