BEGIN:VCALENDAR
VERSION:2.0
PRODID:https://github.com/derhansen/sf_event_mgt
METHOD:PUBLISH
BEGIN:VEVENT
UID:1457-141@isb.rlp.de
CLASS: PUBLIC
SUMMARY:Erfolgreich gründen - Marketing und Kundenakquise
DESCRIPTION: Sie wollen Ihren ganz persönlichen Traum von der Selbstständig
 keit verwirklichen? Oder liegt die Gründung Ihres Unternehmens noch nicht l
 ange zurück und Sie wollen Ihr Geschäftsmodell optimieren? Nutzen Sie das F
 achwissen unserer Referenten!\n\nErfolgreich gründen – Marketing und Kunden
 akquise Referentin: Michaela Weber, Turquoise Kommunikation + PR Ort: Kreis
 verwaltung Südwestpfalz (2. Fraktionszimmer), Unterer Sommerwaldweg 40-42, 
 66953 Pirmasens\n\nInhalte:– Was ist Marketing überhaupt, Bestandteile des 
 Marketings?– Das eigene Profil– Ihr Alleinstellungsmerkmal und Elevator Pit
 ch– Zielgruppen- und Marktanalyse– Marketing-Mix– Kommunikation, Angebot, P
 reis und Vertrieb\n\n\n\n
LOCATION:Kreisverwaltung Südwestpfalz
DTSTAMP:20180305T124549Z
DTSTART:20180307T173000Z
END:VEVENT
END:VCALENDAR
