BEGIN:VCALENDAR
VERSION:2.0
PRODID:https://github.com/derhansen/sf_event_mgt
METHOD:PUBLISH
BEGIN:VEVENT
UID:1461-141@isb.rlp.de
CLASS: PUBLIC
SUMMARY:Erfolgreich gründen - Formalitäten und Versicherungen
DESCRIPTION: Sie wollen Ihren ganz persönlichen Traum von der Selbstständig
 keit verwirklichen? Oder liegt die Gründung Ihres Unternehmens noch nicht l
 ange zurück und Sie wollen Ihr Geschäftsmodell optimieren? Nutzen Sie das F
 achwissen unserer Referenten!\n\nMittwoch, 26. September 2018: Erfolgreich 
 gründen – Formalitäten und Versicherungen Referent: Thomas Katmann, gral – 
 Das BeraterTeam Ort: Rathaus Zweibrücken (Ratssaal), Herzogplatz 1, 66482 Z
 weibrücken\n\nInhalte:– Welche rechtlichen Voraussetzungen (zum Beispiel Be
 rufs-und Gewerberecht) gilt es einzuhalten? – Welche Rechtsform ist die Pas
 sende?– Was ist bei der Namensgebung des Unternehmens zu beachten?– Welche 
 Versicherungen sind sinnvoll und nötig?
LOCATION:Rathaus Zweibrücken
DTSTAMP:20180305T125813Z
DTSTART:20180926T163000Z
END:VEVENT
END:VCALENDAR
