BEGIN:VCALENDAR
VERSION:2.0
PRODID:https://github.com/derhansen/sf_event_mgt
METHOD:PUBLISH
BEGIN:VEVENT
UID:1625-141@isb.rlp.de
CLASS: PUBLIC
SUMMARY:Empfang der Kreativforen Rheinland-Pfalz
DESCRIPTION:Erstmals laden Descom - Designforum Rheinland-Pfalz, GameUp Rhe
 inland-Pfalz und das Film & Medienforum Rheinland-Pfalz gemeinsam zum Verne
 tzen der Branchen ein. Mit dieser Veranstaltung möchten die Foren Ihnen die
  Arbeit der landesweiten Anlaufstellen vorstellen, zu einer erweiterten Sic
 htbarkeit der Kultur- und Kreativwirtschaft des Landes Rheinland-Pfalz sowi
 e zu einer Darstellung der Branchen als Wirtschafts- und Innovationsfaktor 
 beitragen.\n\nNähere Informationen können Sie dem beigefügten Programm entn
 ehmen. 
DTSTAMP:20181129T124551Z
DTSTART:20181204T160000Z
END:VEVENT
END:VCALENDAR
