BEGIN:VCALENDAR
VERSION:2.0
PRODID:https://github.com/derhansen/sf_event_mgt
METHOD:PUBLISH
BEGIN:VEVENT
UID:2698-141@isb.rlp.de
CLASS: PUBLIC
SUMMARY:Digitales Seminar: Unternehmenskultur 4.0 – Schlüssel zur Digitalis
 ierung
DESCRIPTION:Die digitalen Industrie-Seminare greifen wichtige Strategiethem
 en für Industrieunternehmen auf. Das Wirtschaftsministerium lädt Vertreter 
 von Industrieunternehmen gemeinsam mit der Transferinitiative Rheinland-Pfa
 lz mittwochs, 14tägig jeweils um 16.00 Uhr, ein. Die Veranstaltungsreihe so
 ll auch einen Beitrag zur Bewältigung der aktuellen Krise in den Unternehme
 n leisten.\n\nWeitere Informationen finden Sie hier.
DTSTAMP:20200527T081239Z
DTSTART:20200624T140000Z
END:VEVENT
END:VCALENDAR
