BEGIN:VCALENDAR
VERSION:2.0
PRODID:https://github.com/derhansen/sf_event_mgt
METHOD:PUBLISH
BEGIN:VEVENT
UID:2602-141@isb.rlp.de
CLASS: PUBLIC
SUMMARY:„digital unterwegs…“ in Kaiserslautern -5G und KI erleben-
DESCRIPTION:Ganz nach dem Motto Wir vernetzten Land und Leute ist die Lande
 sregierung weiterhin „digital unterwegs…“.\n\nDiesmal lädt Frau Ministerprä
 sidentin Malu Dreyer Sie am 13. Februar 2020 nach Kaiserslautern ein, um zu
 sammen mit Ihnen die beiden Schlüsseltechnologien 5G und KI zu erleben und 
 darüber zu diskutieren.\n\nNotieren Sie sich bitte schon jetzt den Termin i
 n Ihrem Kalender. Kommen Sie nach Kaiserslautern und erleben Sie Spannendes
  zu den Zukunftsthemen 5G und Künstliche Intelligenz.\n\nInformationen zu P
 rogramm und Anmeldung sowie zum genauen Veranstaltungsort folgen rechtzeiti
 g.\n\nWeitere Informationen zu Rheinland-Pfalz Digital finden Sie hier.\n\n
 \n\n
LOCATION:Kaiserslautern
DTSTAMP:20191223T105500Z
DTSTART:20200213T100000Z
DTEND:20200213T140000Z
END:VEVENT
END:VCALENDAR
