BEGIN:VCALENDAR
VERSION:2.0
PRODID:https://github.com/derhansen/sf_event_mgt
METHOD:PUBLISH
BEGIN:VEVENT
UID:3101-141@isb.rlp.de
CLASS: PUBLIC
SUMMARY:Die ÖKO - Leistungsschau des Handwerks in der Region Trier
DESCRIPTION:Die Öko Bauen & Sanieren bietet Handwerkern aus der Region die 
 Möglichkeit, ihre innovativen Produkte und Dienstleistungen zu präsentieren
 . Bauherren mit konkreten Neubau- oder Sanierungsabsichten haben die Möglic
 hkeit, sich zu informieren und Ansprechpartner im Handwerk zu finden. Bezüg
 lich der Finanzierung beraten wir Sie gerne zu Förderprogrammen der ISB.\n\
 nSie finden uns am Stand Nr. 30. Zudem werden unsere Berater Vorträge halte
 n, die Vortragszeiten finden Sie kurz vor der Messe auf der Homepage der Ök
 o-Trier.\n\n\n\nÖffnungszeiten:\n\n 	Freitag, 5. Mai, 14 - 18 Uhr 	Samstag,
  6. Mai, 10 - 18 Uhr 	Sonntag, 7. Mai, 11 - 18 Uhr \n\n\n\nEs sind ausreich
 end Parkplätze vorhanden. Parkgebühr: 3,00 Euro\n\nAnfahrt mit dem kostenlo
 sen ÖKO-Shuttle-Bus der Stadtwerke am Messesamstag und -sonntag im 60 Minut
 en-Takt. Bitte nutzen Sie am Messefreitag die Linie 3 der Stadtwerke vom HB
 F.\n\n\n\nDie Messe ist kostenlos und wir freuen uns auf ihr kommen.  
LOCATION:Messepark Trier
DTSTAMP:20230331T081358Z
DTSTART:20230504T220000Z
DTEND:20230506T220000Z
END:VEVENT
END:VCALENDAR
