BEGIN:VCALENDAR
VERSION:2.0
PRODID:https://github.com/derhansen/sf_event_mgt
METHOD:PUBLISH
BEGIN:VEVENT
UID:2414-141@isb.rlp.de
CLASS: PUBLIC
SUMMARY:Branchengespräch "Mensch-Maschine-Schnittstelle – Komplexität gesta
 lten"
DESCRIPTION:Staatssekretärin Daniela Schmitt lädt Vertreter aus Industrie u
 nd Wissenschaft zu weiteren Branchen-Gesprächen nach Mainz ein:\n\nHuman Ma
 schine Interfaces sind das „Fenster zum Prozess“; sie ermöglichen die Steue
 rung und Optimierung durch die Beeinflussung von Produktions- und Prozess-Z
 ielgrößen. Mit der Digitalisierung steigt die Komplexität dieser Bedienerfu
 nktionen von Haushaltsgeräten, Fahrzeugen, Anwenderprogrammen und Industrie
 anlagen. Das Interface-Design hat die Aufgabe, diese Komplexität für den Nu
 tzer handhabbar zu machen. Im Branchen-Gespräch werden die Chancen einer er
 folgreichen Gestaltung, Etablierung und Optimierung der Mensch-Maschine-Sch
 nittstellen aufgezeigt.\n\nProgramme und Anmeldungen finden Sie hier: https
 ://mwvlw.rlp.de/de/themen/wirtschaftszweige/industrie
LOCATION:Ministerium für Wirtschaft, Verkehr, Landwirtschaft und Weinbau
DTSTAMP:20190313T143933Z
DTSTART:20190509T120000Z
END:VEVENT
END:VCALENDAR
