BEGIN:VCALENDAR
VERSION:2.0
PRODID:https://github.com/derhansen/sf_event_mgt
METHOD:PUBLISH
BEGIN:VEVENT
UID:1228-141@isb.rlp.de
CLASS: PUBLIC
SUMMARY:Branchen-Gespräch: Schweiß- und Hybridfügetechnik in der Metallindu
 strie
DESCRIPTION:Hochwertige Fügeverbindungen  sind in Unternehmen der Metallind
 ustrie, des Maschinenbaus und der Fahrzeugindustrie wichtige Voraussetzunge
 n für die Qualität von Komponenten und Produkten. Staatssekretärin Daniela 
 Schmitt lädt Unternehmen der Metallindustrie am 26. April 2017 ab 14.00 Uhr
  zu einem Branchen-Gespräch ins Wirtschaftsministerium nach Mainz ein, um a
 ktuelle Technologieentwicklungen vorzustellen und zu diskutieren. Die Veran
 staltung soll darüber hinaus den Austausch in der Branche und mit der Wisse
 nschaft fördern. Weitere Informationen zur Anmeldung oder zum Veranstaltung
 sprogramm finden Sie hier.\n\nWeitere Branchen-Gespräche finden an folgende
 n Terminen ebenfalls ab 14 Uhr  im Ministerium für Wirtschaft, Verkehr, Lan
 dwirtschaft und Weinbau statt:\n\n 08. Juni "Innovative Antriebstechnik aus
  Rheinland-Pfalz" 05.September "Innovative Elektrotechnik für die Industrie
 " November 2017 "Automations- und Robotertechnik"
LOCATION:Ministerium für Wirtschaft, Verkehr, Landwirtschaft und Weinbau
DTSTAMP:20170327T081340Z
DTSTART:20170426T120000Z
DTEND:20170426T153000Z
END:VEVENT
END:VCALENDAR
