BEGIN:VCALENDAR
VERSION:2.0
PRODID:https://github.com/derhansen/sf_event_mgt
METHOD:PUBLISH
BEGIN:VEVENT
UID:2747-141@isb.rlp.de
CLASS: PUBLIC
SUMMARY:Beratungstag der Investitions- und Strukturbank Rheinland-Pfalz (IS
 B) und der IHK für Rheinhessen
DESCRIPTION:Der Beratungstag im Rahmen der Mainzer Gründerwoche richtet sic
 h an Existenzgründer/innen und junge Unternehmen mit Betriebsstätte in Rhei
 nland-Pfalz. Herr Schwarz aus dem Bereich Kundenbetreuung der ISB und Frau 
 Haus, Abteilungsleiterin Unternehmensgründung und Unternehmensförderung / I
 nnovation bei der IHK für Rheinhessen, beraten gemeinsam zu den Themen Fina
 nzierung von Gründungsvorhaben, Businessplanerstellung und weiteren relevan
 ten Aspekten der unternehmerischen Selbstständigkeit.\n\nZur Anmeldung send
 en Sie bitte das hierfür vorgesehene Anmeldeformular vollständig ausgefüllt
  per Mail (beratung@isb.rlp.de) oder Fax (06131 6172-1385) an die ISB. Es w
 ird sich daraufhin ein Mitarbeiter der Kundenbetreuung und Beratung der ISB
  mit Ihnen in Verbindung setzen, um einen 30-minütigen Beratungstermin zwis
 chen 9:00 und 12:00 Uhr zu vereinbaren.   Die Beratungsgespräche finden per
  Microsoft Teams statt.  Fragen zur Anmeldung nimmt auch die Kundenbetreuun
 g und Beratung der ISB gerne telefonisch (06131 6172-1333) oder per Mail (b
 eratung@isb.rlp.de) entgegen.  
DTSTAMP:20201112T085954Z
DTSTART:20201118T080000Z
END:VEVENT
END:VCALENDAR
