BEGIN:VCALENDAR
VERSION:2.0
PRODID:https://github.com/derhansen/sf_event_mgt
METHOD:PUBLISH
BEGIN:VEVENT
UID:2756-141@isb.rlp.de
CLASS: PUBLIC
SUMMARY:5. Mainzer Gründerwoche: besondere Zeiten für Gründer
DESCRIPTION:Gründerinnen und Gründer sowie Gründungsinteressierte brauchen 
 Netzwerke, in denen sie Erfahrungen austauschen können und fachliche Starth
 ilfe bekommen. Mainz ist bekannt für eine lebendige Gründerszene, an der al
 le Partner – wie lokale Gründernetzwerke, Beratungsstellen, Hochschulen und
  Kammern sowie die Stadt Mainz – gemeinsam mit einer Vielzahl von Anlaufste
 llen, Angeboten und Know-how engagiert mitwirken. Aber die wirtschaftlichen
  Auswirkungen der Corona-Pandemie wirken sich auch auf die regionale Gründe
 rszene aus: Geschäftsmodelle verändern sich, der Zugang zu Geschäftskontakt
 en, Kapital sowie Finanzierungs- und Fördermitteln erscheint notwendiger de
 nn je.\n\nIn diesem Umfeld findet vom 16. bis 22. November 2020 die Mainzer
  Gründerwoche statt. Wie bereits in den Jahren zuvor bündelt das Mainzer Gr
 ündungsnetzwerk auch in der 5. Auflage des Treffens seine Expertise auf Ini
 tiative der Industrie- und Handelskammer (IHK) für Rheinhessen, der Wirtsch
 aftsförderung der Landeshauptstadt Mainz sowie der Investitions- und Strukt
 urbank Rheinland-Pfalz (ISB), um Gründungsinteressierten alle Fragen rund u
 m das Thema Existenzgründung und unternehmerische Selbstständigkeit zu bean
 tworten.\n\nAuf Grund der aktuellen Einschränkungen im Zuge der Corona-Kris
 e hat das Netzwerk die Gründerwoche erstmals ausschließlich als Online-Even
 t konzipiert. So können alle Veranstaltungen entspannt von zu Hause, aus de
 m Büro oder von unterwegs besucht werden. Mit 25 Einzelveranstaltungen, übe
 r 20 Partnern aus der Region und einer Gesamtdauer von mehr als 40 Stunden 
 bietet die Mainzer Gründerwoche ein umfangreiches Programm. Dabei geben auc
 h erfolgreiche Gründerinnen und Gründer viele Praxistipps und aufschlussrei
 che Einblicke in die Chancen und Herausforderung ihres eigenen Unternehmens
 .\n\n„Die Mainzer Gründerwoche ist eine einzigartige Initiative für Gründun
 gsinteressierte, bei der alle Netzwerkpartner in der Region an einem Strang
  ziehen. Intensiver Meinungs- und Erfahrungsaustausch erhält in diesen hera
 usfordernden Zeiten eine entscheidende Bedeutung für den Erhalt einer vital
 en Gründerkultur“, so Günter Jertz, Hauptgeschäftsführer der IHK für Rheinh
 essen. Als Teil der Gründerwoche Deutschland und der internationalen Global
  Entrepreneurship Week, die zeitgleich in 165 Ländern stattfindet, ist der 
 regionale Zusammenschluss von über 20 Akteuren der Mainzer Gründerszene unt
 er dem gemeinsamen Dach bundesweit einzigartig.\n\n„Wer ein Unternehmen grü
 nden oder übernehmen will, findet in Mainz eine gut vernetzte Szene. Es ber
 eitet große Freude, gemeinsam mit unseren Partnern Unternehmerpersönlichkei
 ten bei der Umsetzung innovativer Geschäftsideen zu begleiten und damit die
  heimische Wirtschaft zu stärken“, erklärt Dr. Ulrich Link, Mitglied des Vo
 rstandes der ISB. Als Förderbank unterstütze die ISB Existenzgründerinnen u
 nd -gründer bei dem Schritt in die Selbstständigkeit neben Finanzierungsang
 eboten und Förderprogrammen auch mit individueller Beratung.\n\n„Mainz blei
 bt als Standort für Gründerinnen und Gründer eine sehr attraktive Adresse. 
 Da die Landeshauptstadt zugleich seit vielen Jahren über eine hohe Gründerq
 uote und die entsprechende Expertise verfügt, wollen wir das erklärte Ziel,
  diese Attraktivität gemeinsam mit allen unseren Netzwerkpartnern auch in d
 en kommenden Jahren noch mehr weiter anzuheben, auf allen denkbaren Ebenen 
 weiter verfolgen. Die inzwischen etablierte Gründerwoche stellt – selbst in
  Corona-Zeiten mit ausschließlichem Online-Angebot – ein überaus wichtiges 
 Format dar, um diesen Weg weiter zu beschreiten“ betont Manuela Matz, Wirts
 chaftsdezernentin der Stadt Mainz.\n\n„Wer sich für das Thema Unternehmensg
 ründung oder Unternehmertum begeistert, sich persönlich inspirieren lassen 
 möchte und auch Freude am virtuellen Netzwerken hat, sollte sich die Mainze
 r Gründerwoche nicht entgehen lassen“, werben Lisa Haus, Abteilungsleiterin
  Unternehmensgründung der IHK für Rheinhessen, und Antje Duwe, Leiterin Kom
 munikation, Investorenservice der ISB, für die Veranstaltung.\n\n„Im vielfä
 ltigen Gesamtprogramm aus Infotainment, persönlichen Gründungsberichten, fa
 chlichem Input und individuellen Beratungsangeboten finden alle ihren passe
 nden Programmpunkt – von Gründungsinteressierten, über aktuelle Gründerinne
 n und Gründer bis zu Gründungsprofis“, stellt Simone Ritter, Abteilungsleit
 erin Wirtschaftsförderung der Landeshauptstadt Mainz heraus.\n\nDer Teilnah
 me an allen Veranstaltungen der 5. Mainzer Gründerwoche ist kostenfrei. Die
  Teilnehmeranzahl ist teilweise begrenzt. Eine Anmeldung ist für jedes Even
 t aus organisatorischen Gründen erforderlich. Das komplette Programm sowie 
 Plätze für die verschiedenen Veranstaltungen lassen sich auf www.mainzer-gr
 ünderwoche.de buchen. Die Veranstaltungen finden online per Videokonferenz 
 statt, entsprechende Links zur Veranstaltung erhalten Sie nach Anmeldung re
 chtzeitig zugesandt.
DTSTAMP:20201113T114002Z
DTSTART:20201115T230000Z
DTEND:20201121T230000Z
END:VEVENT
END:VCALENDAR
